BEGIN:VCALENDAR
VERSION:2.0
PRODID:-//hacksw/handcal//NONSGML v1.0//EN
BEGIN:VEVENT
SUMMARY:Animation La fare les Oliviers - Pre-Poussin 2018
UID:fd46f68d-e52f-4dc7-8474-b08ba1904b35
DTSTART:20260508T080000Z
DTEND:20260508T110000Z
LOCATION:Localisation   
CATEGORIES:Sportif
STATUS:
DESCRIPTION:<p><span style="font-size:16px;"><span
 style="font-family:'Times New Roman', serif;"><b><span lang="de"
 xml:lang="de"><span style="font-family:Arial, sans-serif;">VENDREDI 8
 MAI 2026  -   </span></span></b></span></span></p>
 
 <h1><span
 style="font-size:16px;"><span style="font-family:Arial,
 sans-serif;">Au Dojo Alain Mimoun</span></span></h1>
 
 <h1><span
 style="font-size:16px;"><span style="font-family:Arial,
 sans-serif;">rue Antoine Pessina a La Fare Les
 Oliviers</span></span></h1>
 
 <p><b><span
 style="font-size:12pt;"><span style="font-family:'Times New Roman',
 serif;"><i>  Pesee  </i></span></span></b><span lang="de"
 style="font-size:12pt;" xml:lang="de"><span style="font-family:'Times
 New Roman', serif;">10h00 a 10h15  <b>Pre-poussin(e)s</b> 
  (<i><span style="color:#FF0000;">2018</span></i> <u><span
 style="color:#FF0000;">seulement</span></u>)       
 </span></span><b><span style="font-size:12pt;"><span
 style="font-family:'Times New Roman', serif;"><i>            
        </i></span></span></b></p>
 
 <p><b><i>Categories
 : </i></b></p>
 
 <h2><span style="font-size:11pt;"><span
 style="font-family:'Times New Roman', serif;"><span
 style="font-style:italic;"><span lang="nl" style="font-size:12pt;"
 xml:lang="nl"><span style="font-weight:normal;"><span
 style="font-style:normal;">- </span></span></span><u><span lang="nl"
 style="font-size:12pt;" xml:lang="nl"><span
 style="font-style:normal;">Pre-Poussins(es)</span></span></u><span
 lang="nl" style="font-size:12pt;" xml:lang="nl"><span
 style="font-weight:normal;"><span style="font-style:normal;"> : par
 groupe morphologique</span></span></span><span
 style="font-weight:normal;"><span
 style="font-style:normal;">.</span></span></span></span></span></h2>
URL;VALUE=URI:https://www.judokai-marignanais.fr/evenements/2026/05/08/animation-la-fare-les-oliviers-pre-poussin-2018-2438911
END:VEVENT
END:VCALENDAR
