BEGIN:VCALENDAR
VERSION:2.0
PRODID:-//hacksw/handcal//NONSGML v1.0//EN
BEGIN:VEVENT
SUMMARY:Coupe Departementale Benjamin 2014-2015
UID:e9f4aded-5346-4072-9d41-765b965c4028
DTSTART:20260523T063000Z
DTEND:20260523T160000Z
LOCATION:Localisation   
CATEGORIES:Sportif
STATUS:
DESCRIPTION:<p><strong>NTITULE: </strong>COUPE DEPARTEMENTALE
 BENJAMINS</p>
 
 <p><strong>DATE:</strong> 23/05/2026</p>
 
 <p><strong>LIEU:
 </strong>COMPLEXE SPORTIF, AVENUE LEO LAGRANGE,
 13410<strong> </strong>LAMBESC,</p>
 
 <p><strong>PUBLIC:
 </strong>BENJAMINS MASC / FEM</p>
 
 <p><strong>INSCRIPTION:</strong> 3
 EUROS</p>
 
 <p><strong>FERMETURE des Insctiptions :</strong> MERCREDI
 20 mai 2026 20h</p>
 
 <p><strong>HORAIRES DES PESEES :
 </strong></p>
 
 <p>10h          F-38    M-35<br>
 12H30     
 F-46    M-46<br>
 15H          F+46    M+46</p>
 
 <p>DUREE: 30
 MINUTES EN SOUS VETEMENTS</p>
 
 <p><span
 id="ctl00_ContentPlaceContent_pbarEvent_i0_lbCompetition">Couleurs de
 ceintures : <b>Jaune/Orange -> Verte</b></span></p>
URL;VALUE=URI:https://www.judokai-marignanais.fr/evenements/2026/05/23/coupe-departementale-benjamin-2014-2015-2443501
END:VEVENT
END:VCALENDAR
